BEGIN:VCALENDAR
VERSION:2.0
PRODID:-//Goldgrube//myauktion.com//AT
CALSCALE:GREGORIAN
BEGIN:VEVENT
DTSTART:20260504T153900
DTEND:20260504T153930
LOCATION:Gewerbepark 13, 8562 Mooskirchen
DTSTAMP:20260420T194900
SUMMARY:MyAuktion: Ablauf Artikel Nr. 957056 Purina Felix Emincés Original in Gelee, 120×85g
URL;VALUE=URI:https://www.myauktion.com/versteigerung7650-position2441101-purina-felix-eminces-original-in-gelee-12085g.php
DESCRIPTION:MHD: 07/2027
UID:myauktion-7650-2441101
BEGIN:VALARM
ACTION:DISPLAY
DESCRIPTION:MHD: 07/2027
TRIGGER:-PT10M
END:VALARM
END:VEVENT
END:VCALENDAR