BEGIN:VCALENDAR
VERSION:2.0
PRODID:-//Goldgrube//myauktion.com//AT
CALSCALE:GREGORIAN
BEGIN:VEVENT
DTSTART:20260504T154100
DTEND:20260504T154130
LOCATION:Gewerbepark 13, 8562 Mooskirchen
DTSTAMP:20260421T003833
SUMMARY:MyAuktion: Ablauf Artikel Nr. 957058 Whiskas Klassische Auswahl 40×85g
URL;VALUE=URI:https://www.myauktion.com/versteigerung7650-position2441103-whiskas-klassische-auswahl-4085g.php
DESCRIPTION:MHD: 05/2027
UID:myauktion-7650-2441103
BEGIN:VALARM
ACTION:DISPLAY
DESCRIPTION:MHD: 05/2027
TRIGGER:-PT10M
END:VALARM
END:VEVENT
END:VCALENDAR