BEGIN:VCALENDAR
VERSION:2.0
PRODID:-//Goldgrube//myauktion.com//AT
CALSCALE:GREGORIAN
BEGIN:VEVENT
DTSTART:20260504T154200
DTEND:20260504T154230
LOCATION:Gewerbepark 13, 8562 Mooskirchen
DTSTAMP:20260420T214342
SUMMARY:MyAuktion: Ablauf Artikel Nr. 957059 Horse Care LinuStar Futterkörner 10kg
URL;VALUE=URI:https://www.myauktion.com/versteigerung7650-position2441104-horse-care-linustar-futterkoerner-10kg.php
DESCRIPTION:MHD: 10/2026
UID:myauktion-7650-2441104
BEGIN:VALARM
ACTION:DISPLAY
DESCRIPTION:MHD: 10/2026
TRIGGER:-PT10M
END:VALARM
END:VEVENT
END:VCALENDAR