BEGIN:VCALENDAR
VERSION:2.0
PRODID:-//Goldgrube//myauktion.com//AT
CALSCALE:GREGORIAN
BEGIN:VEVENT
DTSTART:20260504T154300
DTEND:20260504T154330
LOCATION:Gewerbepark 13, 8562 Mooskirchen
DTSTAMP:20260420T214339
SUMMARY:MyAuktion: Ablauf Artikel Nr. 957060 Miamor Trinkfein Katzengetränk mit Huhn 24×135ml
URL;VALUE=URI:https://www.myauktion.com/versteigerung7650-position2441105-miamor-trinkfein-katzengetraenk-mit-huhn-24135ml.php
DESCRIPTION:MHD: 14.05.2028
UID:myauktion-7650-2441105
BEGIN:VALARM
ACTION:DISPLAY
DESCRIPTION:MHD: 14.05.2028
TRIGGER:-PT10M
END:VALARM
END:VEVENT
END:VCALENDAR