BEGIN:VCALENDAR
VERSION:2.0
PRODID:-//Goldgrube//myauktion.com//AT
CALSCALE:GREGORIAN
BEGIN:VEVENT
DTSTART:20260504T155200
DTEND:20260504T155230
LOCATION:Gewerbepark 13, 8562 Mooskirchen
DTSTAMP:20260421T023002
SUMMARY:MyAuktion: Ablauf Artikel Nr. 957063 Hello Bello Zahn Shine Pops je 200g
URL;VALUE=URI:https://www.myauktion.com/versteigerung7650-position2441108-hello-bello-zahn-shine-pops-je-200g.php
DESCRIPTION:MHD: 10.02.2027
UID:myauktion-7650-2441108
BEGIN:VALARM
ACTION:DISPLAY
DESCRIPTION:MHD: 10.02.2027
TRIGGER:-PT10M
END:VALARM
END:VEVENT
END:VCALENDAR