BEGIN:VCALENDAR
VERSION:2.0
PRODID:-//Goldgrube//myauktion.com//AT
CALSCALE:GREGORIAN
BEGIN:VEVENT
DTSTART:20260504T155600
DTEND:20260504T155630
LOCATION:Gewerbepark 13, 8562 Mooskirchen
DTSTAMP:20260420T214340
SUMMARY:MyAuktion: Ablauf Artikel Nr. 957064 Royal Canin Veterinary Urinary U/C 2Kg
URL;VALUE=URI:https://www.myauktion.com/versteigerung7650-position2441109-royal-canin-veterinary-urinary-u-c-2kg.php
DESCRIPTION:MHD: 10.01.2027
UID:myauktion-7650-2441109
BEGIN:VALARM
ACTION:DISPLAY
DESCRIPTION:MHD: 10.01.2027
TRIGGER:-PT10M
END:VALARM
END:VEVENT
END:VCALENDAR