BEGIN:VCALENDAR
VERSION:2.0
PRODID:-//Goldgrube//myauktion.com//AT
CALSCALE:GREGORIAN
BEGIN:VEVENT
DTSTART:20260504T155700
DTEND:20260504T155730
LOCATION:Gewerbepark 13, 8562 Mooskirchen
DTSTAMP:20260421T022959
SUMMARY:MyAuktion: Ablauf Artikel Nr. 957065 Virbac KJ Kidney&Joint Katzenfutter 3Kg
URL;VALUE=URI:https://www.myauktion.com/versteigerung7650-position2441110-virbac-kj-kidney-38joint-katzenfutter-3kg.php
DESCRIPTION:MHD: 08.10.2026
UID:myauktion-7650-2441110
BEGIN:VALARM
ACTION:DISPLAY
DESCRIPTION:MHD: 08.10.2026
TRIGGER:-PT10M
END:VALARM
END:VEVENT
END:VCALENDAR