BEGIN:VCALENDAR
VERSION:2.0
PRODID:-//Goldgrube//myauktion.com//AT
CALSCALE:GREGORIAN
BEGIN:VEVENT
DTSTART:20260504T141400
DTEND:20260504T141430
LOCATION:Gewerbepark 13, 8562 Mooskirchen
DTSTAMP:20260420T214339
SUMMARY:MyAuktion: Ablauf Artikel Nr. 956810 Royal Canin Urinary 12x85g
URL;VALUE=URI:https://www.myauktion.com/versteigerung7650-position2441114-royal-canin-urinary-12x85g.php
DESCRIPTION:MHD 24.06.2027 
UID:myauktion-7650-2441114
BEGIN:VALARM
ACTION:DISPLAY
DESCRIPTION:MHD 24.06.2027 
TRIGGER:-PT10M
END:VALARM
END:VEVENT
END:VCALENDAR