BEGIN:VCALENDAR
VERSION:2.0
PRODID:-//Goldgrube//myauktion.com//AT
CALSCALE:GREGORIAN
BEGIN:VEVENT
DTSTART:20260504T160000
DTEND:20260504T160030
LOCATION:Gewerbepark 13, 8562 Mooskirchen
DTSTAMP:20260421T003829
SUMMARY:MyAuktion: Ablauf Artikel Nr. 957068 Purina Felix diverses Katzenfutter, 120×85g
URL;VALUE=URI:https://www.myauktion.com/versteigerung7650-position2441117-purina-felix-diverses-katzenfutter-12085g.php
DESCRIPTION:MHD: 08/2027
UID:myauktion-7650-2441117
BEGIN:VALARM
ACTION:DISPLAY
DESCRIPTION:MHD: 08/2027
TRIGGER:-PT10M
END:VALARM
END:VEVENT
END:VCALENDAR