BEGIN:VCALENDAR
VERSION:2.0
PRODID:-//Goldgrube//myauktion.com//AT
CALSCALE:GREGORIAN
BEGIN:VEVENT
DTSTART:20260504T160100
DTEND:20260504T160130
LOCATION:Gewerbepark 13, 8562 Mooskirchen
DTSTAMP:20260421T032232
SUMMARY:MyAuktion: Ablauf Artikel Nr. 957069 Purina Gourmet Perle diverse Sorten 96×85g
URL;VALUE=URI:https://www.myauktion.com/versteigerung7650-position2441118-purina-gourmet-perle-diverse-sorten-9685g.php
DESCRIPTION:MHD: 06/2027
UID:myauktion-7650-2441118
BEGIN:VALARM
ACTION:DISPLAY
DESCRIPTION:MHD: 06/2027
TRIGGER:-PT10M
END:VALARM
END:VEVENT
END:VCALENDAR