BEGIN:VCALENDAR
VERSION:2.0
PRODID:-//Goldgrube//myauktion.com//AT
CALSCALE:GREGORIAN
BEGIN:VEVENT
DTSTART:20260504T132600
DTEND:20260504T132630
LOCATION:Gewerbepark 13, 8562 Mooskirchen
DTSTAMP:20260420T214345
SUMMARY:MyAuktion: Ablauf Artikel Nr. 955762 Royal Canin Puppy Mini Nassfutter in Sauce 12x 85g 2-10 Monate 
URL;VALUE=URI:https://www.myauktion.com/versteigerung7650-position2441121-royal-canin-puppy-mini-nassfutter-in-sauce-12x-85g-2-10-monate.php
DESCRIPTION:<div>MHD: 10/04/2027</div>
UID:myauktion-7650-2441121
BEGIN:VALARM
ACTION:DISPLAY
DESCRIPTION:<div>MHD: 10/04/2027</div>
TRIGGER:-PT10M
END:VALARM
END:VEVENT
END:VCALENDAR