BEGIN:VCALENDAR
VERSION:2.0
PRODID:-//Goldgrube//myauktion.com//AT
CALSCALE:GREGORIAN
BEGIN:VEVENT
DTSTART:20260504T132700
DTEND:20260504T132730
LOCATION:Gewerbepark 13, 8562 Mooskirchen
DTSTAMP:20260420T203053
SUMMARY:MyAuktion: Ablauf Artikel Nr. 955763 Royal Canin Sensory Smell Taste und Feel 12x85g in Sauce 
URL;VALUE=URI:https://www.myauktion.com/versteigerung7650-position2441122-royal-canin-sensory-smell-taste-und-feel-12x85g-in-sauce.php
DESCRIPTION:MHD: 01/06/27
UID:myauktion-7650-2441122
BEGIN:VALARM
ACTION:DISPLAY
DESCRIPTION:MHD: 01/06/27
TRIGGER:-PT10M
END:VALARM
END:VEVENT
END:VCALENDAR