BEGIN:VCALENDAR
VERSION:2.0
PRODID:-//Goldgrube//myauktion.com//AT
CALSCALE:GREGORIAN
BEGIN:VEVENT
DTSTART:20260504T132800
DTEND:20260504T132830
LOCATION:Gewerbepark 13, 8562 Mooskirchen
DTSTAMP:20260421T012047
SUMMARY:MyAuktion: Ablauf Artikel Nr. 955764 Royal Canin Sensory Taste 12x 85g
URL;VALUE=URI:https://www.myauktion.com/versteigerung7650-position2441123-royal-canin-sensory-taste-12x-85g.php
DESCRIPTION:MHD: 17/06/27
UID:myauktion-7650-2441123
BEGIN:VALARM
ACTION:DISPLAY
DESCRIPTION:MHD: 17/06/27
TRIGGER:-PT10M
END:VALARM
END:VEVENT
END:VCALENDAR