BEGIN:VCALENDAR
VERSION:2.0
PRODID:-//Goldgrube//myauktion.com//AT
CALSCALE:GREGORIAN
BEGIN:VEVENT
DTSTART:20260504T132900
DTEND:20260504T132930
LOCATION:Gewerbepark 13, 8562 Mooskirchen
DTSTAMP:20260420T214343
SUMMARY:MyAuktion: Ablauf Artikel Nr. 955765 Royal Canin Care Urinary 12x85g 
URL;VALUE=URI:https://www.myauktion.com/versteigerung7650-position2441125-royal-canin-care-urinary-12x85g.php
DESCRIPTION:MHD: 28/05/27
UID:myauktion-7650-2441125
BEGIN:VALARM
ACTION:DISPLAY
DESCRIPTION:MHD: 28/05/27
TRIGGER:-PT10M
END:VALARM
END:VEVENT
END:VCALENDAR