BEGIN:VCALENDAR
VERSION:2.0
PRODID:-//Goldgrube//myauktion.com//AT
CALSCALE:GREGORIAN
BEGIN:VEVENT
DTSTART:20260504T162400
DTEND:20260504T162430
LOCATION:Gewerbepark 13, 8562 Mooskirchen
DTSTAMP:20260420T235723
SUMMARY:MyAuktion: Ablauf Artikel Nr. 957073 Lyra Pet Vogelfutter Gehackte Erdnusskerne 25kg
URL;VALUE=URI:https://www.myauktion.com/versteigerung7650-position2441126-lyra-pet-vogelfutter-gehackte-erdnusskerne-25kg.php
DESCRIPTION:MHD: 10/2027
UID:myauktion-7650-2441126
BEGIN:VALARM
ACTION:DISPLAY
DESCRIPTION:MHD: 10/2027
TRIGGER:-PT10M
END:VALARM
END:VEVENT
END:VCALENDAR