BEGIN:VCALENDAR
VERSION:2.0
PRODID:-//Goldgrube//myauktion.com//AT
CALSCALE:GREGORIAN
BEGIN:VEVENT
DTSTART:20260504T133200
DTEND:20260504T133230
LOCATION:Gewerbepark 13, 8562 Mooskirchen
DTSTAMP:20260420T203052
SUMMARY:MyAuktion: Ablauf Artikel Nr. 955767 Royal Canin Hone Life Indoor  400g 
URL;VALUE=URI:https://www.myauktion.com/versteigerung7650-position2441128-royal-canin-hone-life-indoor-400g.php
DESCRIPTION:MHD 18/09/26
UID:myauktion-7650-2441128
BEGIN:VALARM
ACTION:DISPLAY
DESCRIPTION:MHD 18/09/26
TRIGGER:-PT10M
END:VALARM
END:VEVENT
END:VCALENDAR