BEGIN:VCALENDAR
VERSION:2.0
PRODID:-//Goldgrube//myauktion.com//AT
CALSCALE:GREGORIAN
BEGIN:VEVENT
DTSTART:20260504T162600
DTEND:20260504T162630
LOCATION:Gewerbepark 13, 8562 Mooskirchen
DTSTAMP:20260421T032232
SUMMARY:MyAuktion: Ablauf Artikel Nr. 957074 Wolfsblut Hundefutter Wild mit Kartoffeln 6×800g
URL;VALUE=URI:https://www.myauktion.com/versteigerung7650-position2441130-wolfsblut-hundefutter-wild-mit-kartoffeln-6800g.php
DESCRIPTION:MHD: 06.05.2028, Verpackung beschädigt
UID:myauktion-7650-2441130
BEGIN:VALARM
ACTION:DISPLAY
DESCRIPTION:MHD: 06.05.2028, Verpackung beschädigt
TRIGGER:-PT10M
END:VALARM
END:VEVENT
END:VCALENDAR