BEGIN:VCALENDAR
VERSION:2.0
PRODID:-//Goldgrube//myauktion.com//AT
CALSCALE:GREGORIAN
BEGIN:VEVENT
DTSTART:20260504T133300
DTEND:20260504T133330
LOCATION:Gewerbepark 13, 8562 Mooskirchen
DTSTAMP:20260421T003829
SUMMARY:MyAuktion: Ablauf Artikel Nr. 955768 Animonda Milkies Cat Snack 20er Pack 300g 4 verschiedene Sorten 
URL;VALUE=URI:https://www.myauktion.com/versteigerung7650-position2441131-animonda-milkies-cat-snack-20er-pack-300g-4-verschiedene-sorten.php
DESCRIPTION:MHD: 20/06/26
UID:myauktion-7650-2441131
BEGIN:VALARM
ACTION:DISPLAY
DESCRIPTION:MHD: 20/06/26
TRIGGER:-PT10M
END:VALARM
END:VEVENT
END:VCALENDAR