BEGIN:VCALENDAR
VERSION:2.0
PRODID:-//Goldgrube//myauktion.com//AT
CALSCALE:GREGORIAN
BEGIN:VEVENT
DTSTART:20260504T162700
DTEND:20260504T162730
LOCATION:Gewerbepark 13, 8562 Mooskirchen
DTSTAMP:20260421T022959
SUMMARY:MyAuktion: Ablauf Artikel Nr. 957075 Futterhof Streufutter für Wildvögel 25Kg
URL;VALUE=URI:https://www.myauktion.com/versteigerung7650-position2441132-futterhof-streufutter-fuer-wildvoegel-25kg.php
DESCRIPTION:MHD: 30.06.2026
UID:myauktion-7650-2441132
BEGIN:VALARM
ACTION:DISPLAY
DESCRIPTION:MHD: 30.06.2026
TRIGGER:-PT10M
END:VALARM
END:VEVENT
END:VCALENDAR