BEGIN:VCALENDAR
VERSION:2.0
PRODID:-//Goldgrube//myauktion.com//AT
CALSCALE:GREGORIAN
BEGIN:VEVENT
DTSTART:20260504T141700
DTEND:20260504T141730
LOCATION:Gewerbepark 13, 8562 Mooskirchen
DTSTAMP:20260421T060046
SUMMARY:MyAuktion: Ablauf Artikel Nr. 956815 Multifit Multi-Happen für Hunde 10kg 
URL;VALUE=URI:https://www.myauktion.com/versteigerung7650-position2441133-multifit-multi-happen-fuer-hunde-10kg.php
DESCRIPTION:MHD 09.2026 
UID:myauktion-7650-2441133
BEGIN:VALARM
ACTION:DISPLAY
DESCRIPTION:MHD 09.2026 
TRIGGER:-PT10M
END:VALARM
END:VEVENT
END:VCALENDAR