BEGIN:VCALENDAR
VERSION:2.0
PRODID:-//Goldgrube//myauktion.com//AT
CALSCALE:GREGORIAN
BEGIN:VEVENT
DTSTART:20260504T133500
DTEND:20260504T133530
LOCATION:Gewerbepark 13, 8562 Mooskirchen
DTSTAMP:20260420T214308
SUMMARY:MyAuktion: Ablauf Artikel Nr. 955769 Fit + Fun Patè mit Geflügelleber 16x100g 
URL;VALUE=URI:https://www.myauktion.com/versteigerung7650-position2441134-fit-fun-pat-mit-gefluegelleber-16x100g.php
DESCRIPTION:MHD: 30/01/28 
UID:myauktion-7650-2441134
BEGIN:VALARM
ACTION:DISPLAY
DESCRIPTION:MHD: 30/01/28 
TRIGGER:-PT10M
END:VALARM
END:VEVENT
END:VCALENDAR