BEGIN:VCALENDAR
VERSION:2.0
PRODID:-//Goldgrube//myauktion.com//AT
CALSCALE:GREGORIAN
BEGIN:VEVENT
DTSTART:20260504T141800
DTEND:20260504T141830
LOCATION:Gewerbepark 13, 8562 Mooskirchen
DTSTAMP:20260420T203053
SUMMARY:MyAuktion: Ablauf Artikel Nr. 956816 Dein Bestes Katzenfutter reich an Geflügel 12x415g
URL;VALUE=URI:https://www.myauktion.com/versteigerung7650-position2441135-dein-bestes-katzenfutter-reich-an-gefluegel-12x415g.php
DESCRIPTION:MHD 12.2027 
UID:myauktion-7650-2441135
BEGIN:VALARM
ACTION:DISPLAY
DESCRIPTION:MHD 12.2027 
TRIGGER:-PT10M
END:VALARM
END:VEVENT
END:VCALENDAR