BEGIN:VCALENDAR
VERSION:2.0
PRODID:-//Goldgrube//myauktion.com//AT
CALSCALE:GREGORIAN
BEGIN:VEVENT
DTSTART:20260504T141900
DTEND:20260504T141930
LOCATION:Gewerbepark 13, 8562 Mooskirchen
DTSTAMP:20260420T190510
SUMMARY:MyAuktion: Ablauf Artikel Nr. 956817 Purina One Adult Katzenfutter reich an Lachs 2,8kg 
URL;VALUE=URI:https://www.myauktion.com/versteigerung7650-position2441136-purina-one-adult-katzenfutter-reich-an-lachs-28kg.php
DESCRIPTION:MHD 06.2027 / Verpackung verschmutzt 
UID:myauktion-7650-2441136
BEGIN:VALARM
ACTION:DISPLAY
DESCRIPTION:MHD 06.2027 / Verpackung verschmutzt 
TRIGGER:-PT10M
END:VALARM
END:VEVENT
END:VCALENDAR