BEGIN:VCALENDAR
VERSION:2.0
PRODID:-//Goldgrube//myauktion.com//AT
CALSCALE:GREGORIAN
BEGIN:VEVENT
DTSTART:20260504T133600
DTEND:20260504T133630
LOCATION:Gewerbepark 13, 8562 Mooskirchen
DTSTAMP:20260420T190511
SUMMARY:MyAuktion: Ablauf Artikel Nr. 955770 Fit+Fun Jelly 4 Sorten 44x100g 
URL;VALUE=URI:https://www.myauktion.com/versteigerung7650-position2441137-fit-fun-jelly-4-sorten-44x100g.php
DESCRIPTION:MHD: 12/27
UID:myauktion-7650-2441137
BEGIN:VALARM
ACTION:DISPLAY
DESCRIPTION:MHD: 12/27
TRIGGER:-PT10M
END:VALARM
END:VEVENT
END:VCALENDAR