BEGIN:VCALENDAR
VERSION:2.0
PRODID:-//Goldgrube//myauktion.com//AT
CALSCALE:GREGORIAN
BEGIN:VEVENT
DTSTART:20260504T142000
DTEND:20260504T142030
LOCATION:Gewerbepark 13, 8562 Mooskirchen
DTSTAMP:20260421T003829
SUMMARY:MyAuktion: Ablauf Artikel Nr. 956818 Perfect Fit Katzenfutter Adult 1+ je 750g
URL;VALUE=URI:https://www.myauktion.com/versteigerung7650-position2441138-perfect-fit-katzenfutter-adult-1-je-750g.php
DESCRIPTION:MHD 12.05.2027 / Verpackung beschädigt 
UID:myauktion-7650-2441138
BEGIN:VALARM
ACTION:DISPLAY
DESCRIPTION:MHD 12.05.2027 / Verpackung beschädigt 
TRIGGER:-PT10M
END:VALARM
END:VEVENT
END:VCALENDAR