BEGIN:VCALENDAR
VERSION:2.0
PRODID:-//Goldgrube//myauktion.com//AT
CALSCALE:GREGORIAN
BEGIN:VEVENT
DTSTART:20260504T142100
DTEND:20260504T142130
LOCATION:Gewerbepark 13, 8562 Mooskirchen
DTSTAMP:20260421T022959
SUMMARY:MyAuktion: Ablauf Artikel Nr. 956819 Felix Seaside Sensations 2kg 
URL;VALUE=URI:https://www.myauktion.com/versteigerung7650-position2441139-felix-seaside-sensations-2kg.php
DESCRIPTION:MHD 04.2027 
UID:myauktion-7650-2441139
BEGIN:VALARM
ACTION:DISPLAY
DESCRIPTION:MHD 04.2027 
TRIGGER:-PT10M
END:VALARM
END:VEVENT
END:VCALENDAR