BEGIN:VCALENDAR
VERSION:2.0
PRODID:-//Goldgrube//myauktion.com//AT
CALSCALE:GREGORIAN
BEGIN:VEVENT
DTSTART:20260504T133700
DTEND:20260504T133730
LOCATION:Gewerbepark 13, 8562 Mooskirchen
DTSTAMP:20260420T214331
SUMMARY:MyAuktion: Ablauf Artikel Nr. 955771 Amazon Mixed Selection in jelly Adult cat 48x100g 
URL;VALUE=URI:https://www.myauktion.com/versteigerung7650-position2441140-amazon-mixed-selection-in-jelly-adult-cat-48x100g.php
DESCRIPTION:MHD: 18/02/26
UID:myauktion-7650-2441140
BEGIN:VALARM
ACTION:DISPLAY
DESCRIPTION:MHD: 18/02/26
TRIGGER:-PT10M
END:VALARM
END:VEVENT
END:VCALENDAR