BEGIN:VCALENDAR
VERSION:2.0
PRODID:-//Goldgrube//myauktion.com//AT
CALSCALE:GREGORIAN
BEGIN:VEVENT
DTSTART:20260504T142200
DTEND:20260504T142230
LOCATION:Gewerbepark 13, 8562 Mooskirchen
DTSTAMP:20260420T214335
SUMMARY:MyAuktion: Ablauf Artikel Nr. 956820 Royal Canin Care Hair&Skin Katzenfutter 2kg
URL;VALUE=URI:https://www.myauktion.com/versteigerung7650-position2441141-royal-canin-care-hair-38skin-katzenfutter-2kg.php
DESCRIPTION:MHD 10.03.2027 
UID:myauktion-7650-2441141
BEGIN:VALARM
ACTION:DISPLAY
DESCRIPTION:MHD 10.03.2027 
TRIGGER:-PT10M
END:VALARM
END:VEVENT
END:VCALENDAR