BEGIN:VCALENDAR
VERSION:2.0
PRODID:-//Goldgrube//myauktion.com//AT
CALSCALE:GREGORIAN
BEGIN:VEVENT
DTSTART:20260504T133900
DTEND:20260504T133930
LOCATION:Gewerbepark 13, 8562 Mooskirchen
DTSTAMP:20260420T214332
SUMMARY:MyAuktion: Ablauf Artikel Nr. 955772 Wolfsblut Cold River Adult Forelle mit Süßkartoffeln 2kg 
URL;VALUE=URI:https://www.myauktion.com/versteigerung7650-position2441142-wolfsblut-cold-river-adult-forelle-mit-suesskartoffeln-2kg.php
DESCRIPTION:
UID:myauktion-7650-2441142
BEGIN:VALARM
ACTION:DISPLAY
DESCRIPTION:
TRIGGER:-PT10M
END:VALARM
END:VEVENT
END:VCALENDAR