BEGIN:VCALENDAR
VERSION:2.0
PRODID:-//Goldgrube//myauktion.com//AT
CALSCALE:GREGORIAN
BEGIN:VEVENT
DTSTART:20260504T163100
DTEND:20260504T163130
LOCATION:Gewerbepark 13, 8562 Mooskirchen
DTSTAMP:20260421T032232
SUMMARY:MyAuktion: Ablauf Artikel Nr. 957078 Smilla Cat Paté Poultry Pot Mix 5×800g
URL;VALUE=URI:https://www.myauktion.com/versteigerung7650-position2441146-smilla-cat-pate-poultry-pot-mix-5800g.php
DESCRIPTION:MHD: 19.11.2027, verpackung beschädigt 
UID:myauktion-7650-2441146
BEGIN:VALARM
ACTION:DISPLAY
DESCRIPTION:MHD: 19.11.2027, verpackung beschädigt 
TRIGGER:-PT10M
END:VALARM
END:VEVENT
END:VCALENDAR