BEGIN:VCALENDAR
VERSION:2.0
PRODID:-//Goldgrube//myauktion.com//AT
CALSCALE:GREGORIAN
BEGIN:VEVENT
DTSTART:20260504T134000
DTEND:20260504T134030
LOCATION:Gewerbepark 13, 8562 Mooskirchen
DTSTAMP:20260420T214335
SUMMARY:MyAuktion: Ablauf Artikel Nr. 955773 Pets Deli Functional Suppe Katzen 12x40g 
URL;VALUE=URI:https://www.myauktion.com/versteigerung7650-position2441147-pets-deli-functional-suppe-katzen-12x40g.php
DESCRIPTION:MHD: 01/08/27
UID:myauktion-7650-2441147
BEGIN:VALARM
ACTION:DISPLAY
DESCRIPTION:MHD: 01/08/27
TRIGGER:-PT10M
END:VALARM
END:VEVENT
END:VCALENDAR