BEGIN:VCALENDAR
VERSION:2.0
PRODID:-//Goldgrube//myauktion.com//AT
CALSCALE:GREGORIAN
BEGIN:VEVENT
DTSTART:20260504T143100
DTEND:20260504T143130
LOCATION:Gewerbepark 13, 8562 Mooskirchen
DTSTAMP:20260420T214334
SUMMARY:MyAuktion: Ablauf Artikel Nr. 956822 MultiFit Katzenfutter Adult Jelly Huhn 6x405g 
URL;VALUE=URI:https://www.myauktion.com/versteigerung7650-position2441148-multifit-katzenfutter-adult-jelly-huhn-6x405g.php
DESCRIPTION:MHD 24.01.2028 
UID:myauktion-7650-2441148
BEGIN:VALARM
ACTION:DISPLAY
DESCRIPTION:MHD 24.01.2028 
TRIGGER:-PT10M
END:VALARM
END:VEVENT
END:VCALENDAR