BEGIN:VCALENDAR
VERSION:2.0
PRODID:-//Goldgrube//myauktion.com//AT
CALSCALE:GREGORIAN
BEGIN:VEVENT
DTSTART:20260504T143200
DTEND:20260504T143230
LOCATION:Gewerbepark 13, 8562 Mooskirchen
DTSTAMP:20260420T214334
SUMMARY:MyAuktion: Ablauf Artikel Nr. 956823 MultiFit Katzenfutter Junior Pate Lachs 6x400g 
URL;VALUE=URI:https://www.myauktion.com/versteigerung7650-position2441149-multifit-katzenfutter-junior-pate-lachs-6x400g.php
DESCRIPTION:MHD 03.01.2028 
UID:myauktion-7650-2441149
BEGIN:VALARM
ACTION:DISPLAY
DESCRIPTION:MHD 03.01.2028 
TRIGGER:-PT10M
END:VALARM
END:VEVENT
END:VCALENDAR