BEGIN:VCALENDAR
VERSION:2.0
PRODID:-//Goldgrube//myauktion.com//AT
CALSCALE:GREGORIAN
BEGIN:VEVENT
DTSTART:20260504T134100
DTEND:20260504T134130
LOCATION:Gewerbepark 13, 8562 Mooskirchen
DTSTAMP:20260420T190511
SUMMARY:MyAuktion: Ablauf Artikel Nr. 955774 Multifit tasy Duo Adult 4 Verschiedene Sorten  12x100g 
URL;VALUE=URI:https://www.myauktion.com/versteigerung7650-position2441150-multifit-tasy-duo-adult-4-verschiedene-sorten-12x100g.php
DESCRIPTION:MHD: 20/06/27
UID:myauktion-7650-2441150
BEGIN:VALARM
ACTION:DISPLAY
DESCRIPTION:MHD: 20/06/27
TRIGGER:-PT10M
END:VALARM
END:VEVENT
END:VCALENDAR