BEGIN:VCALENDAR
VERSION:2.0
PRODID:-//Goldgrube//myauktion.com//AT
CALSCALE:GREGORIAN
BEGIN:VEVENT
DTSTART:20260504T134200
DTEND:20260504T134230
LOCATION:Gewerbepark 13, 8562 Mooskirchen
DTSTAMP:20260420T214331
SUMMARY:MyAuktion: Ablauf Artikel Nr. 955775 Animonda Carny Adult Huhn,Pute + Forelle je 100g 
URL;VALUE=URI:https://www.myauktion.com/versteigerung7650-position2441153-animonda-carny-adult-huhnpute-forelle-je-100g.php
DESCRIPTION:MHD: 08/09/27
UID:myauktion-7650-2441153
BEGIN:VALARM
ACTION:DISPLAY
DESCRIPTION:MHD: 08/09/27
TRIGGER:-PT10M
END:VALARM
END:VEVENT
END:VCALENDAR