BEGIN:VCALENDAR
VERSION:2.0
PRODID:-//Goldgrube//myauktion.com//AT
CALSCALE:GREGORIAN
BEGIN:VEVENT
DTSTART:20260504T145100
DTEND:20260504T145130
LOCATION:Gewerbepark 13, 8562 Mooskirchen
DTSTAMP:20260420T214331
SUMMARY:MyAuktion: Ablauf Artikel Nr. 956825 Animonda GranCarno Hundefutter diverse Sorten 10x800g
URL;VALUE=URI:https://www.myauktion.com/versteigerung7650-position2441154-animonda-grancarno-hundefutter-diverse-sorten-10x800g.php
DESCRIPTION:MHD 25.11.2027 / Ohne Schütte 
UID:myauktion-7650-2441154
BEGIN:VALARM
ACTION:DISPLAY
DESCRIPTION:MHD 25.11.2027 / Ohne Schütte 
TRIGGER:-PT10M
END:VALARM
END:VEVENT
END:VCALENDAR