BEGIN:VCALENDAR
VERSION:2.0
PRODID:-//Goldgrube//myauktion.com//AT
CALSCALE:GREGORIAN
BEGIN:VEVENT
DTSTART:20260504T163600
DTEND:20260504T163630
LOCATION:Gewerbepark 13, 8562 Mooskirchen
DTSTAMP:20260421T022959
SUMMARY:MyAuktion: Ablauf Artikel Nr. 957081 Perfwct Fit Adult 1+ je 750g 
URL;VALUE=URI:https://www.myauktion.com/versteigerung7650-position2441157-perfwct-fit-adult-1-je-750g.php
DESCRIPTION:MHD: 12.05.2027
UID:myauktion-7650-2441157
BEGIN:VALARM
ACTION:DISPLAY
DESCRIPTION:MHD: 12.05.2027
TRIGGER:-PT10M
END:VALARM
END:VEVENT
END:VCALENDAR