BEGIN:VCALENDAR
VERSION:2.0
PRODID:-//Goldgrube//myauktion.com//AT
CALSCALE:GREGORIAN
BEGIN:VEVENT
DTSTART:20260504T134700
DTEND:20260504T134730
LOCATION:Gewerbepark 13, 8562 Mooskirchen
DTSTAMP:20260420T214330
SUMMARY:MyAuktion: Ablauf Artikel Nr. 955779 Thrive Premium Plus Chicken Grain-free Cat Food 1,5kg 
URL;VALUE=URI:https://www.myauktion.com/versteigerung7650-position2441161-thrive-premium-plus-chicken-grain-free-cat-food-15kg.php
DESCRIPTION:MHD: 02/07/27
UID:myauktion-7650-2441161
BEGIN:VALARM
ACTION:DISPLAY
DESCRIPTION:MHD: 02/07/27
TRIGGER:-PT10M
END:VALARM
END:VEVENT
END:VCALENDAR