BEGIN:VCALENDAR
VERSION:2.0
PRODID:-//Goldgrube//myauktion.com//AT
CALSCALE:GREGORIAN
BEGIN:VEVENT
DTSTART:20260504T164000
DTEND:20260504T164030
LOCATION:Gewerbepark 13, 8562 Mooskirchen
DTSTAMP:20260421T022959
SUMMARY:MyAuktion: Ablauf Artikel Nr. 957083 Pawsome Fresh & Dry Lachs Adult 
URL;VALUE=URI:https://www.myauktion.com/versteigerung7650-position2441162-pawsome-fresh-38-dry-lachs-adult.php
DESCRIPTION:MHD: 02.04.2027
UID:myauktion-7650-2441162
BEGIN:VALARM
ACTION:DISPLAY
DESCRIPTION:MHD: 02.04.2027
TRIGGER:-PT10M
END:VALARM
END:VEVENT
END:VCALENDAR