BEGIN:VCALENDAR
VERSION:2.0
PRODID:-//Goldgrube//myauktion.com//AT
CALSCALE:GREGORIAN
BEGIN:VEVENT
DTSTART:20260504T134900
DTEND:20260504T134930
LOCATION:Gewerbepark 13, 8562 Mooskirchen
DTSTAMP:20260420T214334
SUMMARY:MyAuktion: Ablauf Artikel Nr. 955780 Amazon Cat Food ASC Salmon Chunks in Gravy 6x415g 
URL;VALUE=URI:https://www.myauktion.com/versteigerung7650-position2441163-amazon-cat-food-asc-salmon-chunks-in-gravy-6x415g.php
DESCRIPTION:MHD:14/07/27
UID:myauktion-7650-2441163
BEGIN:VALARM
ACTION:DISPLAY
DESCRIPTION:MHD:14/07/27
TRIGGER:-PT10M
END:VALARM
END:VEVENT
END:VCALENDAR