BEGIN:VCALENDAR
VERSION:2.0
PRODID:-//Goldgrube//myauktion.com//AT
CALSCALE:GREGORIAN
BEGIN:VEVENT
DTSTART:20260504T135000
DTEND:20260504T135030
LOCATION:Gewerbepark 13, 8562 Mooskirchen
DTSTAMP:20260420T214336
SUMMARY:MyAuktion: Ablauf Artikel Nr. 955781 Cats Nature Adult mera 2kg Huhn 
URL;VALUE=URI:https://www.myauktion.com/versteigerung7650-position2441165-cats-nature-adult-mera-2kg-huhn.php
DESCRIPTION:MHD: 10/10/27
UID:myauktion-7650-2441165
BEGIN:VALARM
ACTION:DISPLAY
DESCRIPTION:MHD: 10/10/27
TRIGGER:-PT10M
END:VALARM
END:VEVENT
END:VCALENDAR