BEGIN:VCALENDAR
VERSION:2.0
PRODID:-//Goldgrube//myauktion.com//AT
CALSCALE:GREGORIAN
BEGIN:VEVENT
DTSTART:20260504T135100
DTEND:20260504T135130
LOCATION:Gewerbepark 13, 8562 Mooskirchen
DTSTAMP:20260420T203052
SUMMARY:MyAuktion: Ablauf Artikel Nr. 955782 DM Dein Bestes 12x100g 4 verschiedene Sorten 
URL;VALUE=URI:https://www.myauktion.com/versteigerung7650-position2441166-dm-dein-bestes-12x100g-4-verschiedene-sorten.php
DESCRIPTION:MHD: 12/2027
UID:myauktion-7650-2441166
BEGIN:VALARM
ACTION:DISPLAY
DESCRIPTION:MHD: 12/2027
TRIGGER:-PT10M
END:VALARM
END:VEVENT
END:VCALENDAR