BEGIN:VCALENDAR
VERSION:2.0
PRODID:-//Goldgrube//myauktion.com//AT
CALSCALE:GREGORIAN
BEGIN:VEVENT
DTSTART:20260504T145400
DTEND:20260504T145430
LOCATION:Gewerbepark 13, 8562 Mooskirchen
DTSTAMP:20260420T222102
SUMMARY:MyAuktion: Ablauf Artikel Nr. 956828 Rinti Hundefutter diverse Sorten 10x800g
URL;VALUE=URI:https://www.myauktion.com/versteigerung7650-position2441171-rinti-hundefutter-diverse-sorten-10x800g.php
DESCRIPTION:MHD 23.01.2029 / Ohne Schütte 
UID:myauktion-7650-2441171
BEGIN:VALARM
ACTION:DISPLAY
DESCRIPTION:MHD 23.01.2029 / Ohne Schütte 
TRIGGER:-PT10M
END:VALARM
END:VEVENT
END:VCALENDAR