BEGIN:VCALENDAR
VERSION:2.0
PRODID:-//Goldgrube//myauktion.com//AT
CALSCALE:GREGORIAN
BEGIN:VEVENT
DTSTART:20260504T164900
DTEND:20260504T164930
LOCATION:Gewerbepark 13, 8562 Mooskirchen
DTSTAMP:20260421T022959
SUMMARY:MyAuktion: Ablauf Artikel Nr. 957086 Whiskas diverse Geflügel Ragouts 40×85g
URL;VALUE=URI:https://www.myauktion.com/versteigerung7650-position2441172-whiskas-diverse-gefluegel-ragouts-4085g.php
DESCRIPTION:MHD: 05.08.2028, verpackung beschädigt
UID:myauktion-7650-2441172
BEGIN:VALARM
ACTION:DISPLAY
DESCRIPTION:MHD: 05.08.2028, verpackung beschädigt
TRIGGER:-PT10M
END:VALARM
END:VEVENT
END:VCALENDAR