BEGIN:VCALENDAR
VERSION:2.0
PRODID:-//Goldgrube//myauktion.com//AT
CALSCALE:GREGORIAN
BEGIN:VEVENT
DTSTART:20260504T145500
DTEND:20260504T145530
LOCATION:Gewerbepark 13, 8562 Mooskirchen
DTSTAMP:20260420T205741
SUMMARY:MyAuktion: Ablauf Artikel Nr. 956829 Purina Gourmet Katzenfutter diverse Sorten 33x85g
URL;VALUE=URI:https://www.myauktion.com/versteigerung7650-position2441173-purina-gourmet-katzenfutter-diverse-sorten-33x85g.php
DESCRIPTION:MHD 11.2027 / ohne Schütte
UID:myauktion-7650-2441173
BEGIN:VALARM
ACTION:DISPLAY
DESCRIPTION:MHD 11.2027 / ohne Schütte
TRIGGER:-PT10M
END:VALARM
END:VEVENT
END:VCALENDAR