BEGIN:VCALENDAR
VERSION:2.0
PRODID:-//Goldgrube//myauktion.com//AT
CALSCALE:GREGORIAN
BEGIN:VEVENT
DTSTART:20260504T135300
DTEND:20260504T135330
LOCATION:Gewerbepark 13, 8562 Mooskirchen
DTSTAMP:20260420T203053
SUMMARY:MyAuktion: Ablauf Artikel Nr. 955784 Purina Gourmet Gold 40x85g
URL;VALUE=URI:https://www.myauktion.com/versteigerung7650-position2441174-purina-gourmet-gold-40x85g.php
DESCRIPTION:Ohne Schütte MHD: 11/27 
UID:myauktion-7650-2441174
BEGIN:VALARM
ACTION:DISPLAY
DESCRIPTION:Ohne Schütte MHD: 11/27 
TRIGGER:-PT10M
END:VALARM
END:VEVENT
END:VCALENDAR