BEGIN:VCALENDAR
VERSION:2.0
PRODID:-//Goldgrube//myauktion.com//AT
CALSCALE:GREGORIAN
BEGIN:VEVENT
DTSTART:20260504T145600
DTEND:20260504T145630
LOCATION:Gewerbepark 13, 8562 Mooskirchen
DTSTAMP:20260420T203053
SUMMARY:MyAuktion: Ablauf Artikel Nr. 956830 Rinti Hundefutter diverse Sorten 19x400g
URL;VALUE=URI:https://www.myauktion.com/versteigerung7650-position2441175-rinti-hundefutter-diverse-sorten-19x400g.php
DESCRIPTION:MHD 02.12.2028 / Ohne Schütte 
UID:myauktion-7650-2441175
BEGIN:VALARM
ACTION:DISPLAY
DESCRIPTION:MHD 02.12.2028 / Ohne Schütte 
TRIGGER:-PT10M
END:VALARM
END:VEVENT
END:VCALENDAR