BEGIN:VCALENDAR
VERSION:2.0
PRODID:-//Goldgrube//myauktion.com//AT
CALSCALE:GREGORIAN
BEGIN:VEVENT
DTSTART:20260504T165000
DTEND:20260504T165030
LOCATION:Gewerbepark 13, 8562 Mooskirchen
DTSTAMP:20260421T003830
SUMMARY:MyAuktion: Ablauf Artikel Nr. 957087 Fit&Fun 4 verschiedene Sorten Jelly Katzenfutter 44×100g
URL;VALUE=URI:https://www.myauktion.com/versteigerung7650-position2441176-fit-38fun-4-verschiedene-sorten-jelly-katzenfutter-44100g.php
DESCRIPTION:MHD: 12/2027, Verpackung beschädigt
UID:myauktion-7650-2441176
BEGIN:VALARM
ACTION:DISPLAY
DESCRIPTION:MHD: 12/2027, Verpackung beschädigt
TRIGGER:-PT10M
END:VALARM
END:VEVENT
END:VCALENDAR