BEGIN:VCALENDAR
VERSION:2.0
PRODID:-//Goldgrube//myauktion.com//AT
CALSCALE:GREGORIAN
BEGIN:VEVENT
DTSTART:20260504T165200
DTEND:20260504T165230
LOCATION:Gewerbepark 13, 8562 Mooskirchen
DTSTAMP:20260420T222102
SUMMARY:MyAuktion: Ablauf Artikel Nr. 957089 Select Gold Kitten Pure Huhn ab 1 Jahr, je 300g
URL;VALUE=URI:https://www.myauktion.com/versteigerung7650-position2441179-select-gold-kitten-pure-huhn-ab-1-jahr-je-300g.php
DESCRIPTION:MHD: 06.09.2026
UID:myauktion-7650-2441179
BEGIN:VALARM
ACTION:DISPLAY
DESCRIPTION:MHD: 06.09.2026
TRIGGER:-PT10M
END:VALARM
END:VEVENT
END:VCALENDAR