BEGIN:VCALENDAR
VERSION:2.0
PRODID:-//Goldgrube//myauktion.com//AT
CALSCALE:GREGORIAN
BEGIN:VEVENT
DTSTART:20260504T145800
DTEND:20260504T145830
LOCATION:Gewerbepark 13, 8562 Mooskirchen
DTSTAMP:20260421T060046
SUMMARY:MyAuktion: Ablauf Artikel Nr. 956832 Animonda vom Feinsten Katzenfutter diverse Sorten 31x100g 
URL;VALUE=URI:https://www.myauktion.com/versteigerung7650-position2441180-animonda-vom-feinsten-katzenfutter-diverse-sorten-31x100g.php
DESCRIPTION:MHD 01.12.2027 / Ohne Schütte 
UID:myauktion-7650-2441180
BEGIN:VALARM
ACTION:DISPLAY
DESCRIPTION:MHD 01.12.2027 / Ohne Schütte 
TRIGGER:-PT10M
END:VALARM
END:VEVENT
END:VCALENDAR